BEGIN:VCALENDAR
VERSION:2.0
PRODID:-//Squarespace Inc/Squarespace 6//v6//EN
BEGIN:VEVENT
UID:5f51e131c4491044f002c566@squarespace.com
DTSTAMP:20200626T072102Z
DTSTART:20200928T050000Z
DTEND:20200928T070000Z
SUMMARY:Hybrid : All staff CEO address
END:VEVENT
END:VCALENDAR
