BEGIN:VCALENDAR
VERSION:2.0
PRODID:-//Squarespace Inc/Squarespace 6//v6//EN
BEGIN:VEVENT
UID:5f51e131c4491044f002c576@squarespace.com
DTSTAMP:20200626T073015Z
DTSTART:20210103T170000Z
DTEND:20210103T180000Z
SUMMARY:VIRTUAL STAFF TRAINING ‘CUSTOMER SERVICE’
END:VEVENT
END:VCALENDAR
