BEGIN:VCALENDAR
VERSION:2.0
PRODID:-//Squarespace Inc/Squarespace 6//v6//EN
BEGIN:VEVENT
UID:5f51e131c4491044f002c561@squarespace.com
DTSTAMP:20200626T071028Z
DTSTART:20200717T000000Z
DTEND:20200717T070000Z
SUMMARY:Virtual National Leadership Meeting
END:VEVENT
END:VCALENDAR
