BEGIN:VCALENDAR
VERSION:2.0
PRODID:-//Squarespace Inc/Squarespace 6//v6//EN
BEGIN:VEVENT
UID:5f51e131c4491044f002c571@squarespace.com
DTSTAMP:20200629T043323Z
DTSTART:20201111T230000Z
DTEND:20201113T050000Z
SUMMARY:HYBRID - NATIONAL ASSOCIATION CONGRESS (2 days)
END:VEVENT
END:VCALENDAR
